BEGIN:VCALENDAR
VERSION:2.0
PRODID:-//hacksw/handcal//NONSGML v1.0//EN
CALSCALE:GREGORIAN
BEGIN:VEVENT
DTEND:20260430T170000
UID:69eacce75aa7d
DTSTAMP:20260424T035239
LOCATION:Stollgasse 4 Stollgasse
DESCRIPTION:Wandern für Singles ab 30 in Bad Schwalbach: Quellen\, Wälder\, Moorgruben &amp\; romantische Plätze. Natur &amp\; neue Begegnungen genießen.
URL;VALUE=URI:http://www.wanderdate.de/30-04-26-testveranstaltung
SUMMARY:Wanderdate Singlewanderung: Testveranstaltung
DTSTART:20260430T103000
END:VEVENT
END:VCALENDAR
