BEGIN:VCALENDAR
VERSION:2.0
PRODID:-//hacksw/handcal//NONSGML v1.0//EN
CALSCALE:GREGORIAN
BEGIN:VEVENT
DTEND:20260501T173000
UID:69e7f63ae7426
DTSTAMP:20260422T001210
LOCATION:Bahnhofstr. 22\, 64673 Zwingenberg 
DESCRIPTION:Wir spazieren zum höchsten Berg in der Bergstraße\, besichtigen das Alsbacher Schloß und lassen den Tag gemütlich in einbem traditionellen restaurant in Zwingenberg ausklingen.
URL;VALUE=URI:http://www.wanderdate.de/singlewandern/01-05-26-alsbacher-schloss-und-melibokus/
SUMMARY:Wanderdate Singlewanderung: Alsbacher Schloss und Melibokus 
DTSTART:20260501T110200
END:VEVENT
END:VCALENDAR
