BEGIN:VCALENDAR
VERSION:2.0
PRODID:-//hacksw/handcal//NONSGML v1.0//EN
CALSCALE:GREGORIAN
BEGIN:VEVENT
DTEND:20260503T153000
UID:69ecb881f36db
DTSTAMP:20260425T145009
LOCATION:Riederwies 112\, 87629 Füssen
DESCRIPTION:Eingerahmt von beeindruckender Natur mit imposanten Berggipfeln\,erlebst Du mit anderen Singles die Allgäuer Bergwelt.
URL;VALUE=URI:http://www.wanderdate.de/singlewandern/01-05-26-koenigliche-wanderungen-um-fuessen/
SUMMARY:Wanderdate Singlewanderung: Königliche Wanderungen um Füssen
DTSTART:20260501T110000
END:VEVENT
END:VCALENDAR
