BEGIN:VCALENDAR
VERSION:2.0
PRODID:-//hacksw/handcal//NONSGML v1.0//EN
CALSCALE:GREGORIAN
BEGIN:VEVENT
DTEND:20260804T160000
UID:69eace6222c83
DTSTAMP:20260424T035858
LOCATION:Heberer Straße 100\, 29640 Schneverdingen 
DESCRIPTION:Mit anderen Singles genießen wir ein besonderes Schauspiel wie tolle Sonnenaufgänge im Frühling\, die Wollgrasblüte im Mai\, die Heideblüte im Sommer\, den Nebel über den Mooren im Herbst\, oder die dunkelgrünen Wacholder in der Schneeheide im Winter.
URL;VALUE=URI:http://www.wanderdate.de/singlewandern/01-08-26-singlewandern-lueneburger-heide/
SUMMARY:Wanderdate Singlewanderung: Singlewandern Lüneburger Heide mit Heideblüte (2-4 Tage)
DTSTART:20260801T110000
END:VEVENT
END:VCALENDAR
