BEGIN:VCALENDAR
VERSION:2.0
PRODID:-//hacksw/handcal//NONSGML v1.0//EN
CALSCALE:GREGORIAN
BEGIN:VEVENT
DTEND:20260607T170000
UID:69e7f5e7a246a
DTSTAMP:20260422T001047
LOCATION:Bingerbrücker Straße 1\, 55411 Bingen
DESCRIPTION:Erlebe den Rheinburgenweg von Bingen nach Koblenz: atemberaubende Panoramen\, historische Burgen und UNESCO Welterbe im Mittelrheintal.
URL;VALUE=URI:http://www.wanderdate.de/singlewandern/02-06-26-burgenzauber-zwischen-bingen-und-koblenz/
SUMMARY:Wanderdate Singlewanderung: Burgenzauber zwischen Bingen und Koblenz (Fronleichnahm)
DTSTART:20260602T090000
END:VEVENT
END:VCALENDAR
