BEGIN:VCALENDAR
VERSION:2.0
PRODID:-//hacksw/handcal//NONSGML v1.0//EN
CALSCALE:GREGORIAN
BEGIN:VEVENT
DTEND:20260604T170000
UID:69eb7128792a5
DTSTAMP:20260424T153328
LOCATION:Bahnhofsplatz 1\, 76332 Bad Herrenalb
DESCRIPTION:Mit anderen Singles besuchen wir das Klosterviertel Bad Herrenalb\, den Falkenfelsen und das Wildgehege Dobeltal mit anderen Singles.
URL;VALUE=URI:http://www.wanderdate.de/singlewandern/04-06-26-kloster-bad-herrenalb-falkenfelsen-und-wildgehege-dobeltal/
SUMMARY:Wanderdate Singlewanderung: Kloster Bad Herrenalb\, Falkenfelsen und Wildgehege Dobeltal
DTSTART:20260604T103000
END:VEVENT
END:VCALENDAR
