BEGIN:VCALENDAR
VERSION:2.0
PRODID:-//hacksw/handcal//NONSGML v1.0//EN
CALSCALE:GREGORIAN
BEGIN:VEVENT
DTEND:20260604T170000
UID:69eb5c38c96a9
DTSTAMP:20260424T140408
LOCATION:Bahnhofpl. 8\, 82319 Starnberg
DESCRIPTION:Mit anderen Singles spazieren wir durch die wildromantische Schlucht\, die dicht bewaldet ist und lassen uns verzaubern mit uriger Natur und spannenden Felswänden am Starnberger See.
URL;VALUE=URI:http://www.wanderdate.de/singlewandern/04-06-26-maisinger-schlucht-u-starnberger-see/
SUMMARY:Wanderdate Singlewanderung: Maisinger Schlucht u. Starnberger See (München)
DTSTART:20260604T110000
END:VEVENT
END:VCALENDAR
