BEGIN:VCALENDAR
VERSION:2.0
PRODID:-//hacksw/handcal//NONSGML v1.0//EN
CALSCALE:GREGORIAN
BEGIN:VEVENT
DTEND:20260604T174500
UID:69ebab337ca80
DTSTAMP:20260424T194107
LOCATION:Am Stadtbahnhof 1\, 65817 Eppstein
DESCRIPTION:Eine Single Wanderung durch den Taunus. Wir besuchen viele Highlights in der Nassauischen Schweiz wie den Neufville Turm\, Bahai Tempel und den Kaisertempel.
URL;VALUE=URI:http://www.wanderdate.de/singlewandern/04-06-26-nassauische-schweiz-im-taunus/
SUMMARY:Wanderdate Singlewanderung: Nassauische Schweiz im Taunus
DTSTART:20260604T100000
END:VEVENT
END:VCALENDAR
