BEGIN:VCALENDAR
VERSION:2.0
PRODID:-//hacksw/handcal//NONSGML v1.0//EN
CALSCALE:GREGORIAN
BEGIN:VEVENT
DTEND:20260604T171500
UID:69eb718434452
DTSTAMP:20260424T153500
LOCATION:Schlossstraße 23\, 76857 Albersweiler
DESCRIPTION:Erlebe mit anderen Singles die unvergleichliche Schönheit der Pfalz auf unserer einzigartigen Wanderung Orensfels\, Burg Neuscharfeneck und Walddusche.
URL;VALUE=URI:http://www.wanderdate.de/singlewandern/04-06-26-orensfels-burg-neuscharfeneck-und-walddusche/
SUMMARY:Wanderdate Singlewanderung: Orensfels\, Burg Neuscharfeneck und Walddusche
DTSTART:20260604T103000
END:VEVENT
END:VCALENDAR
