BEGIN:VCALENDAR
VERSION:2.0
PRODID:-//hacksw/handcal//NONSGML v1.0//EN
CALSCALE:GREGORIAN
BEGIN:VEVENT
DTEND:20260604T174500
UID:69e971f5cc40c
DTSTAMP:20260423T031221
LOCATION:Weinstraße 3\, 76835 Gleisweiler
DESCRIPTION:Erlebe mit anderen Singles die unvergleichliche Schönheit der Pfalz auf unserer einzigartigen Wanderung Orensfels\, Walddusche\, St. Anna Kapelle und Sonnentempel.
URL;VALUE=URI:http://www.wanderdate.de/singlewandern/04-06-26-orensfels-walddusche-st-anna-kapelle-und-sonnentempel/
SUMMARY:Wanderdate Singlewanderung: Orensfels\, Walddusche\, St. Anna Kapelle und Sonnentempel
DTSTART:20260604T100000
END:VEVENT
END:VCALENDAR
