BEGIN:VCALENDAR
VERSION:2.0
PRODID:-//hacksw/handcal//NONSGML v1.0//EN
CALSCALE:GREGORIAN
BEGIN:VEVENT
DTEND:20260606T183000
UID:69ebbbf358353
DTSTAMP:20260424T205235
LOCATION:Auf dem Hecken 28\, 65817 Eppstein
DESCRIPTION:Die sieben Weihern bei Eppstein-Bremthal sind eine natürliche Schönheit und ein beliebtes Ausflugsziel in der Region\, die wir mit anderen Simgles erkunden werden.
URL;VALUE=URI:http://www.wanderdate.de/singlewandern/06-06-26-sieben-weiher-tour-in-der-nassauischen-schweiz/
SUMMARY:Wanderdate Singlewanderung: Sieben Weiher Tour in der Nassauischen Schweiz
DTSTART:20260606T111500
END:VEVENT
END:VCALENDAR
