BEGIN:VCALENDAR
VERSION:2.0
PRODID:-//hacksw/handcal//NONSGML v1.0//EN
CALSCALE:GREGORIAN
BEGIN:VEVENT
DTEND:20260607T173000
UID:69ebbc61c6492
DTSTAMP:20260424T205425
LOCATION:Bahnhofstraße 36\, 61476 Kronberg
DESCRIPTION:Wir erkunden das majestätische Kronberger Schloss\, das idyllische Naturschutzgebiet Hintere Neuwiese und den geheimnisvollen Gilboa Tempel mit anderen Singles.
URL;VALUE=URI:http://www.wanderdate.de/singlewandern/07-06-26-entdecke-die-schaetze-des-taunus-um-kronberg/
SUMMARY:Wanderdate Singlewanderung: Entdecke die Schätze des Taunus um Kronberg
DTSTART:20260607T110000
END:VEVENT
END:VCALENDAR
