BEGIN:VCALENDAR
VERSION:2.0
PRODID:-//hacksw/handcal//NONSGML v1.0//EN
CALSCALE:GREGORIAN
BEGIN:VEVENT
DTEND:20260607T164500
UID:69eb826ede85a
DTSTAMP:20260424T164710
LOCATION:Wilhelminenstraße 51\, 65193 Wiesbaden
DESCRIPTION:Eine Wanderung für Singles aus Wiesbaden und dem Rhein-Main Gebiet auf dem Wiesbadener Neroberg und der Wiesbadener Platte
URL;VALUE=URI:http://www.wanderdate.de/singlewandern/07-06-26-wiesbadener-neroberg-rabengrund-und-goldsteintal/
SUMMARY:Wanderdate Singlewanderung: Wiesbadener Neroberg\, Rabengrund und Goldsteintal
DTSTART:20260607T101500
END:VEVENT
END:VCALENDAR
