BEGIN:VCALENDAR
VERSION:2.0
PRODID:-//hacksw/handcal//NONSGML v1.0//EN
CALSCALE:GREGORIAN
BEGIN:VEVENT
DTEND:20260510T160700
UID:69eb7125c43d3
DTSTAMP:20260424T153325
LOCATION:Stollgasse 4 Stollgasse
DESCRIPTION:Wandern für Singles ab 30 in Bad Schwalbach: Quellen\, Wälder\, Moorgruben &amp\; romantische Plätze. Natur &amp\; neue Begegnungen genießen.
URL;VALUE=URI:http://www.wanderdate.de/singlewandern/10-05-26-test/
SUMMARY:Wanderdate Singlewanderung: Testveranstaltung
DTSTART:20260510T083300
END:VEVENT
END:VCALENDAR
