BEGIN:VCALENDAR
VERSION:2.0
PRODID:-//hacksw/handcal//NONSGML v1.0//EN
CALSCALE:GREGORIAN
BEGIN:VEVENT
DTEND:20260613T173000
UID:69ebc200f1464
DTSTAMP:20260424T211824
LOCATION:Lindenallee 1\, 55583 Bad Münster am Stein-Ebernburg
DESCRIPTION:Uns erwartet eine abwechslungsreiche Tour durch eine streckenweise wirklich spektakuläre Landschaft mit anderen Singles auf dem Rothenfelsmassiv.
URL;VALUE=URI:http://www.wanderdate.de/singlewandern/13-06-26-bad-muenster-am-stein-rothenfelsmassiv/
SUMMARY:Wanderdate Singlewanderung: Bad Münster am Stein - Rothenfelsmassiv
DTSTART:20260613T101500
END:VEVENT
END:VCALENDAR
