BEGIN:VCALENDAR
VERSION:2.0
PRODID:-//hacksw/handcal//NONSGML v1.0//EN
CALSCALE:GREGORIAN
BEGIN:VEVENT
DTEND:20260613T170000
UID:69e9fc8b6c08e
DTSTAMP:20260423T130339
LOCATION:Eiserne Hand 1\, 65232 Taunusstein
DESCRIPTION:Die Hohe Wurzel\, ein imposanter 617\,9 m hoher Berg im Taunus\, ist ein perfektes Ziel für uns. Als dritthöchster Gipfel der Region bietet sie eine großartige Möglichkeit\, die Natur zu erkunden und neue Wege zu entdecken.
URL;VALUE=URI:http://www.wanderdate.de/singlewandern/13-06-26-eiserne-hand-hohe-wurzel-schlaeferskopf-bei-wiesbaden/
SUMMARY:Wanderdate Singlewanderung:  Eiserne Hand - Hohe Wurzel - Schläferskopf bei Wiesbaden 
DTSTART:20260613T110000
END:VEVENT
END:VCALENDAR
