BEGIN:VCALENDAR
VERSION:2.0
PRODID:-//hacksw/handcal//NONSGML v1.0//EN
CALSCALE:GREGORIAN
BEGIN:VEVENT
DTEND:20270620T090000
UID:69e81c3db284c
DTSTAMP:20260422T025421
LOCATION:4470-558 Vila Nova da Telha\, Portugal
DESCRIPTION:Der Nationalpark Peneda-Gerês in Portugal ist ein Paradies für Naturliebhaber\, Wanderer und Singles. Neben der körperlichen Aktivität erleben wir auch eine emotionale Verbindung zur Natur.
URL;VALUE=URI:http://www.wanderdate.de/singlewandern/13-06-27-entdeckungsreise-portugal-mit-nationalpark-peneda-geres/
SUMMARY:Wanderdate Singlewanderung: Entdeckungsreise Portugal mit Nationalpark Peneda-Gerês
DTSTART:20270613T065500
END:VEVENT
END:VCALENDAR
