BEGIN:VCALENDAR
VERSION:2.0
PRODID:-//hacksw/handcal//NONSGML v1.0//EN
CALSCALE:GREGORIAN
BEGIN:VEVENT
DTEND:20260514T183000
UID:69eacdf3160e4
DTSTAMP:20260424T035707
LOCATION:Zum neuen Sportplatz 3\, 55270 Zornheim
DESCRIPTION:Single-Wanderung mit Ausblick bei Zornheim: Weinberge\, Natur &amp\; neue Kontakte. Ideal für Singles zwischen 30 und 70 Jahren. Inkl. Einkehr.
URL;VALUE=URI:http://www.wanderdate.de/singlewandern/14-05-26-zornheimer-berg-zwischen-obst-und-wein/
SUMMARY:Wanderdate Singlewanderung: Zornheimer Berg zwischen Obst und Wein
DTSTART:20260514T130000
END:VEVENT
END:VCALENDAR
