BEGIN:VCALENDAR
VERSION:2.0
PRODID:-//hacksw/handcal//NONSGML v1.0//EN
CALSCALE:GREGORIAN
BEGIN:VEVENT
DTEND:20260614T170000
UID:69ebbbceb978c
DTSTAMP:20260424T205158
LOCATION:Am Stausee 5\, 55585 Niederhausen
DESCRIPTION:Der Lemberg\, mit ca. 420 m die höchste Erhebung im Nahetal beherbergt neben vielen bergbaulichen Besonderheiten ein kulturhistorisches Kleinod: Ein mittelalterliches Zinnoberbergwerk\, den Schmittenstollen\, das einzige Quecksilber-bergwerk das in Westeuropa als Besucherbergwerk ausgebaut wurde.
URL;VALUE=URI:http://www.wanderdate.de/singlewandern/14-06-26-der-lemberg-koenig-der-naheberge/
SUMMARY:Wanderdate Singlewanderung: Der Lemberg - König der Naheberge
DTSTART:20260614T100000
END:VEVENT
END:VCALENDAR
