BEGIN:VCALENDAR
VERSION:2.0
PRODID:-//hacksw/handcal//NONSGML v1.0//EN
CALSCALE:GREGORIAN
BEGIN:VEVENT
DTEND:20260614T183000
UID:69e9fc3809e14
DTSTAMP:20260423T130216
LOCATION:Ringstraße 32\, 61479 Glashütten
DESCRIPTION:Wir treffen uns mit anderen Singles in Schloßborn\, eines der kleinsten Dörfer im Taunus. Hier lässt sich auch heute noch der Verlauf des römischen Limes feststellen.
URL;VALUE=URI:http://www.wanderdate.de/singlewandern/14-06-26-silberbachtal-und-butznickel-felsen/
SUMMARY:Wanderdate Singlewanderung: Silberbachtal und Butznickel Felsen (Taunus)
DTSTART:20260614T120000
END:VEVENT
END:VCALENDAR
