BEGIN:VCALENDAR
VERSION:2.0
PRODID:-//hacksw/handcal//NONSGML v1.0//EN
CALSCALE:GREGORIAN
BEGIN:VEVENT
DTEND:20260619T224500
UID:69ed15bbb8d98
DTSTAMP:20260425T212755
LOCATION:Am Hauptbahnhof 1\, 60329 Frankfurt
DESCRIPTION:Wir spazieren durch einige Parkanlagen zum Friedberger Platz im Nordend\, dem Single-Markt. Ein Lächeln hier - ein Glas Wein da und schon können nette Gespräche und mehr folgen.
URL;VALUE=URI:http://www.wanderdate.de/singlewandern/19-06-26-frankfurter-nightwalk-zum-single-markt/
SUMMARY:Wanderdate Singlewanderung: Frankfurter Nightwalk zum Single Markt
DTSTART:20260619T173000
END:VEVENT
END:VCALENDAR
