BEGIN:VCALENDAR
VERSION:2.0
PRODID:-//hacksw/handcal//NONSGML v1.0//EN
CALSCALE:GREGORIAN
BEGIN:VEVENT
DTEND:20260620T170000
UID:69e9fc0aab476
DTSTAMP:20260423T130130
LOCATION:Hauptstraße 2\, 51519 Odenthal\, Deutschland
DESCRIPTION:Single-Wanderung Altenberger Dom &amp\; Dhünntal: Natur\, Kultur &amp\; neue Begegnungen im Bergischen Land mit Abschluss im Restaurant Küchenhof.
URL;VALUE=URI:http://www.wanderdate.de/singlewandern/20-06-26-altenberger-dom-und-dhuenntalsperre/
SUMMARY:Wanderdate Singlewanderung: Altenberger Dom und Dhünntalsperre (Köln)
DTSTART:20260620T100000
END:VEVENT
END:VCALENDAR
