BEGIN:VCALENDAR
VERSION:2.0
PRODID:-//hacksw/handcal//NONSGML v1.0//EN
CALSCALE:GREGORIAN
BEGIN:VEVENT
DTEND:20260620T183000
UID:69ea5b6c7cf37
DTSTAMP:20260423T194828
LOCATION:Stollgasse 4\, 64521 Groß-Gerau
DESCRIPTION:Auf dem Weg zu einer erfüllten Partnerschaft
URL;VALUE=URI:http://www.wanderdate.de/singlewandern/20-06-26-singlecoaching-dein-weg-zu-einer-erfuellten-partnerschaft/
SUMMARY:Wanderdate Singlewanderung: Singlecoaching - Dein Weg zu einer erfüllten Partnerschaft
DTSTART:20260620T100000
END:VEVENT
END:VCALENDAR
