BEGIN:VCALENDAR
VERSION:2.0
PRODID:-//hacksw/handcal//NONSGML v1.0//EN
CALSCALE:GREGORIAN
BEGIN:VEVENT
DTEND:20260621T180000
UID:69eb81d41a192
DTSTAMP:20260424T164436
LOCATION:Caspar-Hofmann-Platz 2\, 65520 Bad Camberg
DESCRIPTION:Kreuzkapelle &amp\; Baumwipfelweg: Eine Wanderung für Singles in Bad Camberg mit historischen Sehenswürdigkeiten\, Naturerlebnissen und einer gemütlichen Einkehr.
URL;VALUE=URI:http://www.wanderdate.de/singlewandern/21-06-26-bad-camberg-kreuzkapelle-und-baumwipfelweg/
SUMMARY:Wanderdate Singlewanderung: Bad Camberg Kreuzkapelle und Baumwipfelweg
DTSTART:20260621T103000
END:VEVENT
END:VCALENDAR
