BEGIN:VCALENDAR
VERSION:2.0
PRODID:-//hacksw/handcal//NONSGML v1.0//EN
CALSCALE:GREGORIAN
BEGIN:VEVENT
DTEND:20260621T163000
UID:69eb98d2d5dc1
DTSTAMP:20260424T182242
LOCATION:Am Altrheinhafen 1\, 76474 Au am Rhein
DESCRIPTION:Single-Wanderung am Rhein: Fermasee\, Auenwald\, Rheinaue &amp\; Einkehr. Singles erleben Natur\, Begegnung &amp\; Rhein-Atmosphäre mit Wanderdate.
URL;VALUE=URI:http://www.wanderdate.de/singlewandern/21-06-26-singles-entdecken-den-rhein-und-fermasee/
SUMMARY:Wanderdate Singlewanderung: Singles entdecken den Rhein und Fermasee (Karlsruhe)
DTSTART:20260621T110000
END:VEVENT
END:VCALENDAR
