BEGIN:VCALENDAR
VERSION:2.0
PRODID:-//hacksw/handcal//NONSGML v1.0//EN
CALSCALE:GREGORIAN
BEGIN:VEVENT
DTEND:20260621T170000
UID:69eb98a933afa
DTSTAMP:20260424T182201
LOCATION:Schulstraße 12\, 64342 Seeheim-Jugenheim
DESCRIPTION:Singlewanderung Heiligenberg: Schloss\, Kloster\, Aussicht &amp\; magische Orte. Perfekt für Singles\, die Natur &amp\; neue Begegnungen suchen!
URL;VALUE=URI:http://www.wanderdate.de/singlewandern/21-06-26-wuensche-waelder-wunderwelten/
SUMMARY:Wanderdate Singlewanderung: Wünsche\, Wälder\, Wunderwelten
DTSTART:20260621T110000
END:VEVENT
END:VCALENDAR
