BEGIN:VCALENDAR
VERSION:2.0
PRODID:-//hacksw/handcal//NONSGML v1.0//EN
CALSCALE:GREGORIAN
BEGIN:VEVENT
DTEND:20260523T170000
UID:69e7b67f1c452
DTSTAMP:20260421T194015
LOCATION:Bahnhofspl. 2\, 56130 Bad Ems
DESCRIPTION:Singlewanderung Bad Ems: Limesturm\, Malberg &amp\; Kurpark erleben – Natur\, Kultur &amp\; Genuss im Lahntal für Singles.
URL;VALUE=URI:http://www.wanderdate.de/singlewandern/23-05-26-panorama-und-geschichte-auf-den-spuren-des-malbergs/
SUMMARY:Wanderdate Singlewanderung: Panorama und Geschichte: Auf den Spuren des Malbergs in Bad Ems
DTSTART:20260523T104500
END:VEVENT
END:VCALENDAR
