BEGIN:VCALENDAR
VERSION:2.0
PRODID:-//hacksw/handcal//NONSGML v1.0//EN
CALSCALE:GREGORIAN
BEGIN:VEVENT
DTEND:20260524T170000
UID:69e7b757646c6
DTSTAMP:20260421T194351
LOCATION:Heisterbacher Str.\, 53639 Königswinter
DESCRIPTION:Singlewanderung Siebengebirge: Kloster Heisterbach\, Stenzelberg &amp\; Petersberg. Natur\, Weitblicke und neue Kontakte erleben.
URL;VALUE=URI:http://www.wanderdate.de/singlewandern/24-05-26-kloster-heisterbach-petersberg-und-schlucht-am-stenzelberg/
SUMMARY:Wanderdate Singlewanderung: Kloster Heisterbach\, Petersberg und Schlucht am Stenzelberg
DTSTART:20260524T110000
END:VEVENT
END:VCALENDAR
