BEGIN:VCALENDAR
VERSION:2.0
PRODID:-//hacksw/handcal//NONSGML v1.0//EN
CALSCALE:GREGORIAN
BEGIN:VEVENT
DTEND:20260726T163000
UID:69eb97cd20c48
DTSTAMP:20260424T181821
LOCATION:Wasserkuppe 1a\, 36129 Gersfeld (Rhön)
DESCRIPTION:Mit anderen Singles erkunden wir die Wasserkuppe. Sie ist mit mit 950 m der höchste Berg der Rhön.
URL;VALUE=URI:http://www.wanderdate.de/singlewandern/24-07-26-rhoen-naturparadies-land-der-offenen-fernen/
SUMMARY:Wanderdate Singlewanderung: Rhön - Naturparadies - Land der offenen Fernen
DTSTART:20260724T103000
END:VEVENT
END:VCALENDAR
