BEGIN:VCALENDAR
VERSION:2.0
PRODID:-//hacksw/handcal//NONSGML v1.0//EN
CALSCALE:GREGORIAN
BEGIN:VEVENT
DTEND:20260425T170000
UID:69e73a0ef2ed4
DTSTAMP:20260421T104918
LOCATION:Dachsbergstraße 2\, 65201 Wiesbaden
DESCRIPTION:Sanfte Weinberge\, Wälder\, Burgen und Rheinblicke – das ist der Rheingau. Mit anderen Singles erkunden wir Walluf\, das romantische Bachtal\, Schloss Freudenberg und den Kirschblütenweg. Treffpunkt Bhf. Schierstein.
URL;VALUE=URI:http://www.wanderdate.de/singlewandern/25-04-26-schloss-freudenberg-und-kirschblueten-im-rheingau/
SUMMARY:Wanderdate Singlewanderung: Schloss Freudenberg und Kirschblüten im Rheingau 
DTSTART:20260425T110000
END:VEVENT
END:VCALENDAR
