BEGIN:VCALENDAR
VERSION:2.0
PRODID:-//hacksw/handcal//NONSGML v1.0//EN
CALSCALE:GREGORIAN
BEGIN:VEVENT
DTEND:20260426T173000
UID:69ed26c366f87
DTSTAMP:20260425T224035
LOCATION:Parkplatz\, 51519 Odenthal
DESCRIPTION:Singlewanderung Bergisches Land: Natur\, Flüsse &amp\; Einkehr. Entspannt wandern\, Singles kennenlernen und Gemeinschaft erleben mit Wanderdate.
URL;VALUE=URI:http://www.wanderdate.de/singlewandern/26-04-26-bachtaeler-und-bauernkaeserei-im-bergischen-land/
SUMMARY:Wanderdate Singlewanderung: Bachtäler und Bauernkäserei im Bergischen Land
DTSTART:20260426T103000
END:VEVENT
END:VCALENDAR
