BEGIN:VCALENDAR
VERSION:2.0
PRODID:-//hacksw/handcal//NONSGML v1.0//EN
CALSCALE:GREGORIAN
BEGIN:VEVENT
DTEND:20260426T163000
UID:69e73a1690055
DTSTAMP:20260421T104926
LOCATION:Niedernhausener Str. 85\, 65207 Wiesbaden
DESCRIPTION:Nach dem Flachsland treten wir in den schönen Wiesbadener Stadtwald ein und wandern hinunter ins Goldsteintal. Dort können wir uns an einer Trinkwasserquelle erfrischen und folgen einem kleinen\, idylischem Weg dem Goldsteinbach entlang und kommen bald kommen am Goldstein vorbei.
URL;VALUE=URI:http://www.wanderdate.de/singlewandern/26-04-26-berg-und-tal-rund-um-rambach/
SUMMARY:Wanderdate Singlewanderung: Berg und Tal rund um Rambach
DTSTART:20260426T110000
END:VEVENT
END:VCALENDAR
