BEGIN:VCALENDAR
VERSION:2.0
PRODID:-//hacksw/handcal//NONSGML v1.0//EN
CALSCALE:GREGORIAN
BEGIN:VEVENT
DTEND:20260626T223000
UID:69ea09561bb65
DTSTAMP:20260423T135814
LOCATION:Erbacher Str. 87\, 64287 Darmstadt
DESCRIPTION:Heute bietet sich Dir die Möglichkeit tolle Parkanlagen\, Schlossgärten und die Mathildenhöhe in Darmstadt\, gemeinsam mit anderen Singles\, zu erkunden.
URL;VALUE=URI:http://www.wanderdate.de/singlewandern/26-06-26-schlossgaerten-und-mathildenhoehe-in-darmstadt/
SUMMARY:Wanderdate Singlewanderung: Schlossgärten und Mathildenhöhe in Darmstadt 
DTSTART:20260626T180000
END:VEVENT
END:VCALENDAR
