BEGIN:VCALENDAR
VERSION:2.0
PRODID:-//hacksw/handcal//NONSGML v1.0//EN
CALSCALE:GREGORIAN
BEGIN:VEVENT
DTEND:20260628T173000
UID:69e9ffad40d55
DTSTAMP:20260423T131701
LOCATION:Obere Kreuzstraße 30\, 55120 Mainz
DESCRIPTION:Der Lennebergwald befindet sich auf einem Dünengebiet aus dem Pleistozän. Direkt benachbart zum Lennebergwald befindet sich das Naturschutzgebiet &quot\;Mainzer Sand&quot\;\, das als eines der wertvollsten Naturschutzgebiete Europas gilt.
URL;VALUE=URI:http://www.wanderdate.de/singlewandern/28-06-26-mainz-im-lennebergwald-mit-lennebergturm/
SUMMARY:Wanderdate Singlewanderung: Mainz - Im Lennebergwald mit Lennebergturm
DTSTART:20260628T110000
END:VEVENT
END:VCALENDAR
