BEGIN:VCALENDAR
VERSION:2.0
PRODID:-//hacksw/handcal//NONSGML v1.0//EN
CALSCALE:GREGORIAN
BEGIN:VEVENT
DTEND:20260628T171500
UID:69ea08279d892
DTSTAMP:20260423T135311
LOCATION:Bahnhofplatz 8\, 83684 Tegernsee
DESCRIPTION:Genussvolle Wanderung für Singles am Tegernsee mit Panoramablick\, Baumschaukel\, Strandbad und geselliger Einkehr – perfekt für neue Begegnungen.
URL;VALUE=URI:http://www.wanderdate.de/singlewandern/28-06-26-panoramawanderung-fuer-singles-am-tegernsee/
SUMMARY:Wanderdate Singlewanderung: Panoramawanderung für Singles am Tegernsee
DTSTART:20260628T110000
END:VEVENT
END:VCALENDAR
