BEGIN:VCALENDAR
VERSION:2.0
PRODID:-//hacksw/handcal//NONSGML v1.0//EN
CALSCALE:GREGORIAN
BEGIN:VEVENT
DTEND:20260628T190000
UID:69ea5c7b1e950
DTSTAMP:20260423T195259
LOCATION:St.-Peray-Straße 10\, 64823 Groß-Umstadt
DESCRIPTION:Mit anderen Singles erkunden wir die „Odenwälder Weininsel“\, die bekannt ist als eine Rarität auf der deutschen Weinkarte. Dabei kommen wir einfach mit anderen Singles ins Gespräch.
URL;VALUE=URI:http://www.wanderdate.de/singlewandern/28-06-26-weininsel-wanderung-in-gross-umstadt/
SUMMARY:Wanderdate Singlewanderung: Weininsel Wanderung in Groß-Umstadt
DTSTART:20260628T133000
END:VEVENT
END:VCALENDAR
