BEGIN:VCALENDAR
VERSION:2.0
PRODID:-//hacksw/handcal//NONSGML v1.0//EN
CALSCALE:GREGORIAN
BEGIN:VEVENT
DTEND:20260628T174500
UID:69ea0aa831dbe
DTSTAMP:20260423T140352
LOCATION:Bahnhofplatz 11\, 51491 Overath
DESCRIPTION:Singlewandern im Naafbachtal: Natur erleben\, neue Leute treffen und gemeinsam im Landgasthaus Sonne einkehren. Für Singles\, die mehr wollen.
URL;VALUE=URI:http://www.wanderdate.de/singlewandern/28-06-26-wildromantisches-naafbachtal-fuer-singles/
SUMMARY:Wanderdate Singlewanderung: Wildromantisches Naafbachtal für Singles
DTSTART:20260628T104500
END:VEVENT
END:VCALENDAR
