BEGIN:VCALENDAR
VERSION:2.0
PRODID:-//hacksw/handcal//NONSGML v1.0//EN
CALSCALE:GREGORIAN
BEGIN:VEVENT
DTEND:20260530T170000
UID:69e9718d29d3f
DTSTAMP:20260423T031037
LOCATION:Bahnhofstraße 2\, 82237 Wörthsee
DESCRIPTION:Entdecke den Wörthsee in all seiner Pracht! Als Single kannst du eine malerische Wanderung um den See genießen. Erlebe die Natur hautnah\, tausche Lächeln mit anderen Singles aus und lass den Alltag hinter dir.
URL;VALUE=URI:http://www.wanderdate.de/singlewandern/30-05-26-woerthsee-runde/
SUMMARY:Wanderdate Singlewanderung: Wörthsee Runde (München)
DTSTART:20260530T110000
END:VEVENT
END:VCALENDAR
